BEGIN:VCALENDAR
VERSION:2.0
PRODID:-// - ECPv6.15.18//NONSGML v1.0//EN
CALSCALE:GREGORIAN
METHOD:PUBLISH
X-ORIGINAL-URL:https://goalfoundationuk.org
X-WR-CALDESC:Events for 
REFRESH-INTERVAL;VALUE=DURATION:PT1H
X-Robots-Tag:noindex
X-PUBLISHED-TTL:PT1H
BEGIN:VTIMEZONE
TZID:UTC
BEGIN:STANDARD
TZOFFSETFROM:+0000
TZOFFSETTO:+0000
TZNAME:UTC
DTSTART:20250101T000000
END:STANDARD
END:VTIMEZONE
BEGIN:VEVENT
DTSTART;TZID=UTC:20260330T090000
DTEND;TZID=UTC:20260410T130000
DTSTAMP:20260419T185137
CREATED:20260327T215138Z
LAST-MODIFIED:20260327T215856Z
UID:381-1774861200-1775826000@goalfoundationuk.org
SUMMARY:HAF Easter Holiday Club
DESCRIPTION:Supporting Children\, Strengthening Families\, Enriching Our Community \nGOAL Foundation UK is proud to deliver its Holiday Activities and Food (HAF) Easter Holiday Club for children and families in our community. This project has been developed to provide a safe\, active\, inclusive and enjoyable holiday experience for children during the school break\, while also supporting families with access to healthy food\, positive activities and meaningful community engagement. \nFunded by the London Borough of Tower Hamlets and supported by GOAL Foundation UK\, this programme is designed to benefit children who may otherwise have limited access to structured holiday activities. Through sports\, traditional games\, healthy meals and social interaction\, the HAF project helps children stay active\, confident and connected. \nEvent Details\n📅 Dates: 30 March – 10 April 2026 (selected dates)\n🕐 Time: 9:00 am – 1:00 pm\n📍 Venue: Osmani Centre\, 58 Underwood Road\, London E1 5AW\n👥 Open to: Reception to Year 11 \nRegister Now | View on Facebook \n \nWhat the HAF Project Offers \nOur Easter holiday club brings together a wide range of activities that support children’s physical\, emotional and social wellbeing. The programme includes: \n\nsupervised sports and fun games\nhealthy and nutritious meals\nsafe and inclusive group activities\nopportunities to build confidence and teamwork\nphysical exercise and active play\ncultural and traditional games\, including Dariyabandha\npositive engagement with children from different backgrounds\n\nThe sessions are designed to create a welcoming environment where children can learn\, play\, socialise and develop new skills during the holidays. \nWhy This Project Matters \nSchool holidays can be challenging for many families. Some children have fewer opportunities to take part in organised activities\, stay physically active or access healthy meals outside school. The HAF project responds directly to those needs by creating a space where children can benefit from both enrichment and support. \nThis programme has a positive impact on the community in several important ways. \n\nPromoting Healthy Lifestyles: Children are encouraged to take part in physical activity\, outdoor play and active group sessions. This helps reduce inactivity\, supports fitness and encourages healthier routines during the holiday period.\nSupporting Nutrition and Wellbeing: A healthy meal is provided during the programme\, helping to ensure children receive proper nourishment in a supportive setting. This also offers reassurance to families during the school holidays.\nBuilding Confidence and Social Skills: Children learn to work together\, follow instructions\, communicate with others and take part in team-based activities. These experiences help improve confidence\, discipline\, friendship and social development.\nStrengthening Community Inclusion: The HAF project brings together children and families from across the local community. It helps create stronger community ties and promotes inclusion\, belonging and positive participation.\nCelebrating Culture and Heritage: One of the unique features of our programme is the promotion of traditional rural games from Bangladesh. By introducing games such as Dariyabandha\, we help younger generations connect with their heritage while enjoying physical activity\, teamwork and fun in a modern UK setting.\n\nImpact on Society \nThe HAF project is not only beneficial for individual children and families\, but also for society more widely. \nA well-planned holiday programme helps reduce social isolation\, encourages positive use of free time and gives children a structured and supportive environment. This can improve behaviour\, strengthen self-esteem and support better long-term outcomes for young people. \nFor parents and carers\, the project offers reassurance that their children are spending time in a safe\, meaningful and well-supervised environment. For the wider community\, it creates stronger links between families\, voluntary organisations and local support networks. \nProjects like this also help address wider issues such as food insecurity\, lack of access to enrichment opportunities\, reduced physical activity and disconnection from culture and community life. By responding to these challenges in a practical way\, the HAF project plays a valuable role in building a healthier\, more engaged and more resilient community. \nProgramme Details\nProgramme Name: Easter Holiday Club\nOrganised by: GOAL Foundation UK\nFunded by: London Borough of Tower Hamlets\nVenue: Osmani Centre\, 58 Underwood Road\, London E1 5AW\nAdditional Outdoor Activities: Weather permitting\, selected activities may also take place in supervised outdoor spaces \nDates:\n30 March 2026\n31 March 2026\n1 April 2026\n2 April 2026\n7 April 2026\n8 April 2026\n9 April 2026\n10 April 2026 \nTime: 9:00 am to 1:00 pm\nDuration: 4 hours per session \nWho Can Join \nThe programme is open to children from Reception to Year 11 living in the local community\, particularly those eligible under the HAF criteria. Places are limited\, so early registration is encouraged. \nOur team is committed to making the sessions safe\, welcoming and inclusive for all participating children. Appropriate safeguarding\, supervision and risk management arrangements are in place throughout the programme. \nOur Commitment to the Community \nAt GOAL Foundation UK\, we believe community programmes should do more than simply fill time during the holidays. They should create opportunity\, inspire confidence and bring people together. \nThe HAF Easter Holiday Club reflects our wider mission to support children\, young people\, women and families through meaningful programmes in sport\, education\, wellbeing and social development. Alongside our HAF activities\, GOAL Foundation UK is also involved in: \n\nfree English language support\ncricket training for young people\nwomen’s employability support\ncommunity sports development\ncultural and heritage-based activities\ncricket tournaments such as the Bangladesh District Cup T10\n\nWe are committed to creating lasting benefit for our community and ensuring that children and families have access to positive opportunities that support both present wellbeing and future growth. \nGet Involved \nWe warmly encourage families\, supporters\, volunteers and community partners to connect with us and learn more about our work. By working together\, we can create stronger opportunities for children and a more active\, healthy and united community. \nContact Us\nGOAL Foundation UK\nLandline: 03003 020554\nMobile: +44 7727 974429\nEmail: info@goalfoundationuk.org \n\nDear Journalist\, \nYou are warmly invited to attend the LBPC Press Conference organised by GOAL Foundation UK. \n📅 Wednesday\, 25 March 2026\n🕠 5:30 PM\n📍 London Bangla Press Club Office\n37B Princelet Street\, London E1 5LP \nThe press conference will introduce GOAL Foundation UK and its upcoming activities with Tower Hamlets Council to promote the traditional Bangladeshi rural game Dariyabandha among school children in the borough. The programme will be held at the Osmani Centre from 30 March to 10 April 2026. \nYour presence will be highly appreciated. \nFor more information:\nArup Chowdhury\n+44 7727 974429
URL:https://goalfoundationuk.org/event/haf-easter-holiday-club/
LOCATION:Osmani Centre\, 58 Underwood Road\, London\, E1 5AW\, United Kingdom
CATEGORIES:HAF Easter Holiday Club
ATTACH;FMTTYPE=image/jpeg:https://goalfoundationuk.org/wp-content/uploads/2026/03/WhatsApp-Image-2026-03-27-at-5.15.47-PM-1.jpeg
END:VEVENT
END:VCALENDAR